BEGIN:VCALENDAR
VERSION:2.0
PRODID:-//Artesanal Companhia de Teatro - ECPv6.1.3//NONSGML v1.0//EN
CALSCALE:GREGORIAN
METHOD:PUBLISH
X-ORIGINAL-URL:https://artesanalciadeteatro.com/pt-br/
X-WR-CALDESC:Eventos para Artesanal Companhia de Teatro
REFRESH-INTERVAL;VALUE=DURATION:PT1H
X-Robots-Tag:noindex
X-PUBLISHED-TTL:PT1H
BEGIN:VTIMEZONE
TZID:America/Sao_Paulo
BEGIN:STANDARD
TZOFFSETFROM:-0300
TZOFFSETTO:-0300
TZNAME:-03
DTSTART:20240101T000000
END:STANDARD
END:VTIMEZONE
BEGIN:VEVENT
DTSTART;TZID=America/Sao_Paulo:20240727T150000
DTEND;TZID=America/Sao_Paulo:20240727T163000
DTSTAMP:20260424T172644
CREATED:20240408T213307Z
LAST-MODIFIED:20240703T212613Z
UID:7170-1722092400-1722097800@artesanalciadeteatro.com
SUMMARY:Azul
DESCRIPTION:
URL:https://artesanalciadeteatro.com/pt-br/apresentacao/azul-16/
LOCATION:Sesc Rio Preto\, Avenida Francisco das Chagas Oliveira\, 1333\, São José do Rio Preto\, São Paulo\, 15090-190\, Brasil
END:VEVENT
BEGIN:VEVENT
DTSTART;TZID=America/Sao_Paulo:20240727T190000
DTEND;TZID=America/Sao_Paulo:20240727T203000
DTSTAMP:20260424T172644
CREATED:20240703T212937Z
LAST-MODIFIED:20240703T212937Z
UID:7207-1722106800-1722112200@artesanalciadeteatro.com
SUMMARY:Azul
DESCRIPTION:
URL:https://artesanalciadeteatro.com/pt-br/apresentacao/azul-21/
LOCATION:Sesc Rio Preto\, Avenida Francisco das Chagas Oliveira\, 1333\, São José do Rio Preto\, São Paulo\, 15090-190\, Brasil
END:VEVENT
END:VCALENDAR