BEGIN:VCALENDAR
VERSION:2.0
PRODID:-//Artesanal Companhia de Teatro - ECPv6.1.3//NONSGML v1.0//EN
CALSCALE:GREGORIAN
METHOD:PUBLISH
X-WR-CALNAME:Artesanal Companhia de Teatro
X-ORIGINAL-URL:https://artesanalciadeteatro.com/pt-br/
X-WR-CALDESC:Eventos para Artesanal Companhia de Teatro
REFRESH-INTERVAL;VALUE=DURATION:PT1H
X-Robots-Tag:noindex
X-PUBLISHED-TTL:PT1H
BEGIN:VTIMEZONE
TZID:America/Sao_Paulo
BEGIN:STANDARD
TZOFFSETFROM:-0300
TZOFFSETTO:-0300
TZNAME:-03
DTSTART:20240101T000000
END:STANDARD
END:VTIMEZONE
BEGIN:VEVENT
DTSTART;TZID=America/Sao_Paulo:20240728T160000
DTEND;TZID=America/Sao_Paulo:20240728T173000
DTSTAMP:20260424T155529
CREATED:20240703T213310Z
LAST-MODIFIED:20240703T213310Z
UID:7209-1722182400-1722187800@artesanalciadeteatro.com
SUMMARY:Azul
DESCRIPTION:
URL:https://artesanalciadeteatro.com/pt-br/apresentacao/azul-27/
LOCATION:Centro Cultural Sesc Quitandinha\, Avenida Joaquim Rolla nº 2\, Petrópolis\, Rio de Janeiro\, Brasil
END:VEVENT
END:VCALENDAR