BEGIN:VCALENDAR
VERSION:2.0
PRODID:-//Artesanal Companhia de Teatro - ECPv6.1.3//NONSGML v1.0//EN
CALSCALE:GREGORIAN
METHOD:PUBLISH
X-ORIGINAL-URL:https://artesanalciadeteatro.com/pt-br/
X-WR-CALDESC:Eventos para Artesanal Companhia de Teatro
REFRESH-INTERVAL;VALUE=DURATION:PT1H
X-Robots-Tag:noindex
X-PUBLISHED-TTL:PT1H
BEGIN:VTIMEZONE
TZID:America/Sao_Paulo
BEGIN:STANDARD
TZOFFSETFROM:-0300
TZOFFSETTO:-0300
TZNAME:-03
DTSTART:20240101T000000
END:STANDARD
END:VTIMEZONE
BEGIN:VEVENT
DTSTART;TZID=America/Sao_Paulo:20240803T160000
DTEND;TZID=America/Sao_Paulo:20240803T170000
DTSTAMP:20260424T155905
CREATED:20240712T192019Z
LAST-MODIFIED:20240712T192019Z
UID:7219-1722700800-1722704400@artesanalciadeteatro.com
SUMMARY:Tatá\, o travesseiro.
DESCRIPTION:
URL:https://artesanalciadeteatro.com/pt-br/apresentacao/tata-o-travesseiro/
LOCATION:DF
END:VEVENT
END:VCALENDAR