BEGIN:VCALENDAR
VERSION:2.0
PRODID:-//Artesanal Companhia de Teatro - ECPv6.1.3//NONSGML v1.0//EN
CALSCALE:GREGORIAN
METHOD:PUBLISH
X-ORIGINAL-URL:https://artesanalciadeteatro.com/pt-br/
X-WR-CALDESC:Eventos para Artesanal Companhia de Teatro
REFRESH-INTERVAL;VALUE=DURATION:PT1H
X-Robots-Tag:noindex
X-PUBLISHED-TTL:PT1H
BEGIN:VTIMEZONE
TZID:America/Sao_Paulo
BEGIN:STANDARD
TZOFFSETFROM:-0300
TZOFFSETTO:-0300
TZNAME:-03
DTSTART:20240101T000000
END:STANDARD
END:VTIMEZONE
BEGIN:VEVENT
DTSTART;TZID=America/Sao_Paulo:20240817T160000
DTEND;TZID=America/Sao_Paulo:20240817T173000
DTSTAMP:20260424T155849
CREATED:20240312T152441Z
LAST-MODIFIED:20240316T012536Z
UID:7106-1723910400-1723915800@artesanalciadeteatro.com
SUMMARY:Azul
DESCRIPTION:
URL:https://artesanalciadeteatro.com/pt-br/apresentacao/azul-2/
LOCATION:Teatro SESI Caxias\, Rua Artur Neiva\, 100\, Caxias\, RJ
CATEGORIES:Apresentação
END:VEVENT
END:VCALENDAR