BEGIN:VCALENDAR
VERSION:2.0
PRODID:-//Artesanal Companhia de Teatro - ECPv6.1.3//NONSGML v1.0//EN
CALSCALE:GREGORIAN
METHOD:PUBLISH
X-ORIGINAL-URL:https://artesanalciadeteatro.com/pt-br/
X-WR-CALDESC:Eventos para Artesanal Companhia de Teatro
REFRESH-INTERVAL;VALUE=DURATION:PT1H
X-Robots-Tag:noindex
X-PUBLISHED-TTL:PT1H
BEGIN:VTIMEZONE
TZID:America/Sao_Paulo
BEGIN:STANDARD
TZOFFSETFROM:-0300
TZOFFSETTO:-0300
TZNAME:-03
DTSTART:20250101T000000
END:STANDARD
END:VTIMEZONE
BEGIN:VEVENT
DTSTART;TZID=America/Sao_Paulo:20250504T163000
DTEND;TZID=America/Sao_Paulo:20250504T180000
DTSTAMP:20260423T190203
CREATED:20250503T211032Z
LAST-MODIFIED:20250503T211032Z
UID:7315-1746376200-1746381600@artesanalciadeteatro.com
SUMMARY:Azul
DESCRIPTION:
URL:https://artesanalciadeteatro.com/pt-br/apresentacao/azul-59/
LOCATION:Sesc Taubaté\, Av. Eng. Milton de Alvarenga Peixoto 1264\, Taubaté\, São Paulo\, 12052-230
CATEGORIES:Apresentação
END:VEVENT
END:VCALENDAR