BEGIN:VCALENDAR
VERSION:2.0
PRODID:-//Artesanal Companhia de Teatro - ECPv6.1.3//NONSGML v1.0//EN
CALSCALE:GREGORIAN
METHOD:PUBLISH
X-ORIGINAL-URL:https://artesanalciadeteatro.com/pt-br/
X-WR-CALDESC:Eventos para Artesanal Companhia de Teatro
REFRESH-INTERVAL;VALUE=DURATION:PT1H
X-Robots-Tag:noindex
X-PUBLISHED-TTL:PT1H
BEGIN:VTIMEZONE
TZID:America/Sao_Paulo
BEGIN:STANDARD
TZOFFSETFROM:-0300
TZOFFSETTO:-0300
TZNAME:-03
DTSTART:20250101T000000
END:STANDARD
END:VTIMEZONE
BEGIN:VEVENT
DTSTART;TZID=America/Sao_Paulo:20250803T160000
DTEND;TZID=America/Sao_Paulo:20250803T173000
DTSTAMP:20260423T150132
CREATED:20250805T233245Z
LAST-MODIFIED:20250805T233245Z
UID:7363-1754236800-1754242200@artesanalciadeteatro.com
SUMMARY:Azul
DESCRIPTION:
URL:https://artesanalciadeteatro.com/pt-br/apresentacao/azul-71/
LOCATION:Teatro Francisco Nunes\, Avenida Afonso Pena\, s/n\, Belo Horizonte\, Minas Gerais
CATEGORIES:Apresentação
END:VEVENT
END:VCALENDAR