BEGIN:VCALENDAR
VERSION:2.0
PRODID:-//Artesanal Companhia de Teatro - ECPv6.1.3//NONSGML v1.0//EN
CALSCALE:GREGORIAN
METHOD:PUBLISH
X-ORIGINAL-URL:https://artesanalciadeteatro.com/pt-br/
X-WR-CALDESC:Eventos para Artesanal Companhia de Teatro
REFRESH-INTERVAL;VALUE=DURATION:PT1H
X-Robots-Tag:noindex
X-PUBLISHED-TTL:PT1H
BEGIN:VTIMEZONE
TZID:America/Sao_Paulo
BEGIN:STANDARD
TZOFFSETFROM:-0300
TZOFFSETTO:-0300
TZNAME:-03
DTSTART:20250101T000000
END:STANDARD
END:VTIMEZONE
BEGIN:VEVENT
DTSTART;TZID=America/Sao_Paulo:20251011T180000
DTEND;TZID=America/Sao_Paulo:20251011T193000
DTSTAMP:20260423T114813
CREATED:20251003T185409Z
LAST-MODIFIED:20251003T185409Z
UID:7387-1760205600-1760211000@artesanalciadeteatro.com
SUMMARY:AZUL
DESCRIPTION:
URL:https://artesanalciadeteatro.com/pt-br/apresentacao/azul-78/
LOCATION:Sesc 24 de Maio\, Rua 24 de maio\, 109\, São Paulo\, São Paulo\, 01041-001
CATEGORIES:Apresentação
END:VEVENT
END:VCALENDAR