BEGIN:VCALENDAR
VERSION:2.0
PRODID:-//Artesanal Companhia de Teatro - ECPv6.1.3//NONSGML v1.0//EN
CALSCALE:GREGORIAN
METHOD:PUBLISH
X-ORIGINAL-URL:https://artesanalciadeteatro.com/pt-br/
X-WR-CALDESC:Eventos para Artesanal Companhia de Teatro
REFRESH-INTERVAL;VALUE=DURATION:PT1H
X-Robots-Tag:noindex
X-PUBLISHED-TTL:PT1H
BEGIN:VTIMEZONE
TZID:America/Sao_Paulo
BEGIN:STANDARD
TZOFFSETFROM:-0300
TZOFFSETTO:-0300
TZNAME:-03
DTSTART:20240101T000000
END:STANDARD
END:VTIMEZONE
BEGIN:VEVENT
DTSTART;TZID=America/Sao_Paulo:20240511T120000
DTEND;TZID=America/Sao_Paulo:20240511T133000
DTSTAMP:20260424T190941
CREATED:20240422T134411Z
LAST-MODIFIED:20240422T134423Z
UID:7176-1715428800-1715434200@artesanalciadeteatro.com
SUMMARY:Azul
DESCRIPTION:
URL:https://artesanalciadeteatro.com/pt-br/apresentacao/azul-17/
LOCATION:Sesc Belenzinho\, Rua Padre Adelino\, São Paulo\, SP\, 03303-000
END:VEVENT
BEGIN:VEVENT
DTSTART;TZID=America/Sao_Paulo:20240512T120000
DTEND;TZID=America/Sao_Paulo:20240512T133000
DTSTAMP:20260424T190941
CREATED:20240422T134758Z
LAST-MODIFIED:20240422T134815Z
UID:7180-1715515200-1715520600@artesanalciadeteatro.com
SUMMARY:Azul
DESCRIPTION:
URL:https://artesanalciadeteatro.com/pt-br/apresentacao/azul-18/
LOCATION:Sesc Belenzinho\, Rua Padre Adelino\, São Paulo\, SP\, 03303-000
END:VEVENT
BEGIN:VEVENT
DTSTART;TZID=America/Sao_Paulo:20240518T120000
DTEND;TZID=America/Sao_Paulo:20240518T133000
DTSTAMP:20260424T190941
CREATED:20240422T134911Z
LAST-MODIFIED:20240422T134911Z
UID:7182-1716033600-1716039000@artesanalciadeteatro.com
SUMMARY:Azul
DESCRIPTION:
URL:https://artesanalciadeteatro.com/pt-br/apresentacao/azul-19/
LOCATION:Sesc Belenzinho\, Rua Padre Adelino\, São Paulo\, SP\, 03303-000
END:VEVENT
BEGIN:VEVENT
DTSTART;TZID=America/Sao_Paulo:20240519T120000
DTEND;TZID=America/Sao_Paulo:20240519T133000
DTSTAMP:20260424T190941
CREATED:20240422T135004Z
LAST-MODIFIED:20240422T135004Z
UID:7184-1716120000-1716125400@artesanalciadeteatro.com
SUMMARY:Azul
DESCRIPTION:
URL:https://artesanalciadeteatro.com/pt-br/apresentacao/azul-20/
LOCATION:Sesc Belenzinho\, Rua Padre Adelino\, São Paulo\, SP\, 03303-000
END:VEVENT
BEGIN:VEVENT
DTSTART;TZID=America/Sao_Paulo:20240525T120000
DTEND;TZID=America/Sao_Paulo:20240525T133000
DTSTAMP:20260424T190941
CREATED:20240422T135143Z
LAST-MODIFIED:20240422T135143Z
UID:7188-1716638400-1716643800@artesanalciadeteatro.com
SUMMARY:Azul
DESCRIPTION:
URL:https://artesanalciadeteatro.com/pt-br/apresentacao/azul-22/
LOCATION:Sesc Belenzinho\, Rua Padre Adelino\, São Paulo\, SP\, 03303-000
END:VEVENT
BEGIN:VEVENT
DTSTART;TZID=America/Sao_Paulo:20240526T120000
DTEND;TZID=America/Sao_Paulo:20240526T133000
DTSTAMP:20260424T190941
CREATED:20240422T135234Z
LAST-MODIFIED:20240422T135234Z
UID:7190-1716724800-1716730200@artesanalciadeteatro.com
SUMMARY:Azul
DESCRIPTION:
URL:https://artesanalciadeteatro.com/pt-br/apresentacao/azul-23/
LOCATION:Sesc Belenzinho\, Rua Padre Adelino\, São Paulo\, SP\, 03303-000
END:VEVENT
BEGIN:VEVENT
DTSTART;TZID=America/Sao_Paulo:20240530T120000
DTEND;TZID=America/Sao_Paulo:20240531T133000
DTSTAMP:20260424T190941
CREATED:20240422T135337Z
LAST-MODIFIED:20240422T135337Z
UID:7192-1717070400-1717162200@artesanalciadeteatro.com
SUMMARY:Azul
DESCRIPTION:
URL:https://artesanalciadeteatro.com/pt-br/apresentacao/azul-24/
LOCATION:Sesc Belenzinho\, Rua Padre Adelino\, São Paulo\, SP\, 03303-000
END:VEVENT
END:VCALENDAR