BEGIN:VCALENDAR
VERSION:2.0
PRODID:-//Artesanal Companhia de Teatro - ECPv6.1.3//NONSGML v1.0//EN
CALSCALE:GREGORIAN
METHOD:PUBLISH
X-WR-CALNAME:Artesanal Companhia de Teatro
X-ORIGINAL-URL:https://artesanalciadeteatro.com/pt-br/
X-WR-CALDESC:Eventos para Artesanal Companhia de Teatro
REFRESH-INTERVAL;VALUE=DURATION:PT1H
X-Robots-Tag:noindex
X-PUBLISHED-TTL:PT1H
BEGIN:VTIMEZONE
TZID:America/Sao_Paulo
BEGIN:STANDARD
TZOFFSETFROM:-0300
TZOFFSETTO:-0300
TZNAME:-03
DTSTART:20240101T000000
END:STANDARD
END:VTIMEZONE
BEGIN:VEVENT
DTSTART;TZID=America/Sao_Paulo:20240601T120000
DTEND;TZID=America/Sao_Paulo:20240601T133000
DTSTAMP:20260424T174232
CREATED:20240422T135511Z
LAST-MODIFIED:20240422T135511Z
UID:7196-1717243200-1717248600@artesanalciadeteatro.com
SUMMARY:Azul
DESCRIPTION:
URL:https://artesanalciadeteatro.com/pt-br/apresentacao/azul-25/
LOCATION:Sesc Belenzinho\, Rua Padre Adelino\, São Paulo\, SP\, 03303-000
END:VEVENT
BEGIN:VEVENT
DTSTART;TZID=America/Sao_Paulo:20240602T120000
DTEND;TZID=America/Sao_Paulo:20240602T133000
DTSTAMP:20260424T174232
CREATED:20240422T135601Z
LAST-MODIFIED:20240422T135612Z
UID:7198-1717329600-1717335000@artesanalciadeteatro.com
SUMMARY:Azul
DESCRIPTION:
URL:https://artesanalciadeteatro.com/pt-br/apresentacao/azul-26/
LOCATION:Sesc Belenzinho\, Rua Padre Adelino\, São Paulo\, SP\, 03303-000
END:VEVENT
BEGIN:VEVENT
DTSTART;TZID=America/Sao_Paulo:20240613T150000
DTEND;TZID=America/Sao_Paulo:20240613T163000
DTSTAMP:20260424T174232
CREATED:20240229T184946Z
LAST-MODIFIED:20240314T164730Z
UID:7055-1718290800-1718296200@artesanalciadeteatro.com
SUMMARY:Azul
DESCRIPTION:
URL:https://artesanalciadeteatro.com/pt-br/apresentacao/sesi-sao-jose-dos-campos/
LOCATION:Teatro SESI Sao Jose dos Campos\, Av. Cidade Jardim\, 4389 - Bosque dos Eucaliptos\, São José dos Campos
CATEGORIES:Apresentação
END:VEVENT
BEGIN:VEVENT
DTSTART;TZID=America/Sao_Paulo:20240614T150000
DTEND;TZID=America/Sao_Paulo:20240614T163000
DTSTAMP:20260424T174232
CREATED:20240229T185122Z
LAST-MODIFIED:20240314T164850Z
UID:7058-1718377200-1718382600@artesanalciadeteatro.com
SUMMARY:Azul
DESCRIPTION:
URL:https://artesanalciadeteatro.com/pt-br/apresentacao/sesi-sao-jose-dos-campos-2/
LOCATION:Teatro SESI Sao Jose dos Campos\, Av. Cidade Jardim\, 4389 - Bosque dos Eucaliptos\, São José dos Campos
CATEGORIES:Apresentação
END:VEVENT
BEGIN:VEVENT
DTSTART;TZID=America/Sao_Paulo:20240615T160000
DTEND;TZID=America/Sao_Paulo:20240615T173000
DTSTAMP:20260424T174232
CREATED:20240229T185237Z
LAST-MODIFIED:20240314T164934Z
UID:7060-1718467200-1718472600@artesanalciadeteatro.com
SUMMARY:Azul
DESCRIPTION:
URL:https://artesanalciadeteatro.com/pt-br/apresentacao/sesi-sao-jose-dos-campos-3/
LOCATION:Teatro SESI Sao Jose dos Campos\, Av. Cidade Jardim\, 4389 - Bosque dos Eucaliptos\, São José dos Campos
CATEGORIES:Apresentação
END:VEVENT
BEGIN:VEVENT
DTSTART;TZID=America/Sao_Paulo:20240616T160000
DTEND;TZID=America/Sao_Paulo:20240616T173000
DTSTAMP:20260424T174232
CREATED:20240229T185334Z
LAST-MODIFIED:20240314T165007Z
UID:7062-1718553600-1718559000@artesanalciadeteatro.com
SUMMARY:Azul
DESCRIPTION:
URL:https://artesanalciadeteatro.com/pt-br/apresentacao/sesi-sao-jose-dos-campos-4/
LOCATION:Teatro SESI Sao Jose dos Campos\, Av. Cidade Jardim\, 4389 - Bosque dos Eucaliptos\, São José dos Campos
CATEGORIES:Apresentação
END:VEVENT
BEGIN:VEVENT
DTSTART;TZID=America/Sao_Paulo:20240620T150000
DTEND;TZID=America/Sao_Paulo:20240620T163000
DTSTAMP:20260424T174232
CREATED:20240229T185525Z
LAST-MODIFIED:20240314T165042Z
UID:7064-1718895600-1718901000@artesanalciadeteatro.com
SUMMARY:Azul
DESCRIPTION:
URL:https://artesanalciadeteatro.com/pt-br/apresentacao/sesi-sao-jose-dos-campos-5/
LOCATION:Teatro SESI Sao Jose dos Campos\, Av. Cidade Jardim\, 4389 - Bosque dos Eucaliptos\, São José dos Campos
CATEGORIES:Apresentação
END:VEVENT
BEGIN:VEVENT
DTSTART;TZID=America/Sao_Paulo:20240621T150000
DTEND;TZID=America/Sao_Paulo:20240621T163000
DTSTAMP:20260424T174232
CREATED:20240229T185620Z
LAST-MODIFIED:20240314T165117Z
UID:7066-1718982000-1718987400@artesanalciadeteatro.com
SUMMARY:Azul
DESCRIPTION:
URL:https://artesanalciadeteatro.com/pt-br/apresentacao/sesi-sao-jose-dos-campos-6/
LOCATION:Teatro SESI Sao Jose dos Campos\, Av. Cidade Jardim\, 4389 - Bosque dos Eucaliptos\, São José dos Campos
CATEGORIES:Apresentação
END:VEVENT
BEGIN:VEVENT
DTSTART;TZID=America/Sao_Paulo:20240622T160000
DTEND;TZID=America/Sao_Paulo:20240622T173000
DTSTAMP:20260424T174232
CREATED:20240229T185735Z
LAST-MODIFIED:20240314T165154Z
UID:7069-1719072000-1719077400@artesanalciadeteatro.com
SUMMARY:Azul
DESCRIPTION:
URL:https://artesanalciadeteatro.com/pt-br/apresentacao/sesi-sao-jose-dos-campos-7/
LOCATION:Teatro SESI Sao Jose dos Campos\, Av. Cidade Jardim\, 4389 - Bosque dos Eucaliptos\, São José dos Campos
CATEGORIES:Apresentação
END:VEVENT
BEGIN:VEVENT
DTSTART;TZID=America/Sao_Paulo:20240623T160000
DTEND;TZID=America/Sao_Paulo:20240623T173000
DTSTAMP:20260424T174232
CREATED:20240229T185825Z
LAST-MODIFIED:20240314T165225Z
UID:7071-1719158400-1719163800@artesanalciadeteatro.com
SUMMARY:Azul
DESCRIPTION:
URL:https://artesanalciadeteatro.com/pt-br/apresentacao/sesi-sao-jose-dos-campos-8/
LOCATION:Teatro SESI Sao Jose dos Campos\, Av. Cidade Jardim\, 4389 - Bosque dos Eucaliptos\, São José dos Campos
CATEGORIES:Apresentação
END:VEVENT
END:VCALENDAR