BEGIN:VCALENDAR
VERSION:2.0
PRODID:-//Artesanal Companhia de Teatro - ECPv6.1.3//NONSGML v1.0//EN
CALSCALE:GREGORIAN
METHOD:PUBLISH
X-ORIGINAL-URL:https://artesanalciadeteatro.com/pt-br/
X-WR-CALDESC:Eventos para Artesanal Companhia de Teatro
REFRESH-INTERVAL;VALUE=DURATION:PT1H
X-Robots-Tag:noindex
X-PUBLISHED-TTL:PT1H
BEGIN:VTIMEZONE
TZID:America/Sao_Paulo
BEGIN:STANDARD
TZOFFSETFROM:-0300
TZOFFSETTO:-0300
TZNAME:-03
DTSTART:20250101T000000
END:STANDARD
END:VTIMEZONE
BEGIN:VEVENT
DTSTART;TZID=America/Sao_Paulo:20250302T160000
DTEND;TZID=America/Sao_Paulo:20250302T173000
DTSTAMP:20260423T201727
CREATED:20250130T182608Z
LAST-MODIFIED:20250130T182608Z
UID:7272-1740931200-1740936600@artesanalciadeteatro.com
SUMMARY:Azul
DESCRIPTION:
URL:https://artesanalciadeteatro.com/pt-br/apresentacao/azul-44/
LOCATION:Teatro Sesc Paulo Gracindo\, Setor de Indústria Quadra 2 - Gama\, Distrito Federal\, DF\, 72425020
END:VEVENT
BEGIN:VEVENT
DTSTART;TZID=America/Sao_Paulo:20250316T120000
DTEND;TZID=America/Sao_Paulo:20250316T133000
DTSTAMP:20260423T201727
CREATED:20250311T230351Z
LAST-MODIFIED:20250311T230351Z
UID:7278-1742126400-1742131800@artesanalciadeteatro.com
SUMMARY:Azul
DESCRIPTION:
URL:https://artesanalciadeteatro.com/pt-br/apresentacao/azul-45/
LOCATION:Sesc Santana\, Avenida Luiz Dumont Villares\, 579\, São Paulo\, SP
CATEGORIES:Apresentação
END:VEVENT
BEGIN:VEVENT
DTSTART;TZID=America/Sao_Paulo:20250318T143000
DTEND;TZID=America/Sao_Paulo:20250318T160000
DTSTAMP:20260423T201727
CREATED:20250311T230731Z
LAST-MODIFIED:20250311T230731Z
UID:7281-1742308200-1742313600@artesanalciadeteatro.com
SUMMARY:Azul
DESCRIPTION:
URL:https://artesanalciadeteatro.com/pt-br/apresentacao/azul-46/
LOCATION:Sesc Santana\, Avenida Luiz Dumont Villares\, 579\, São Paulo\, SP
CATEGORIES:Apresentação
END:VEVENT
BEGIN:VEVENT
DTSTART;TZID=America/Sao_Paulo:20250319T093000
DTEND;TZID=America/Sao_Paulo:20250319T110000
DTSTAMP:20260423T201727
CREATED:20250311T230912Z
LAST-MODIFIED:20250311T230912Z
UID:7283-1742376600-1742382000@artesanalciadeteatro.com
SUMMARY:Azul
DESCRIPTION:
URL:https://artesanalciadeteatro.com/pt-br/apresentacao/azul-47/
LOCATION:Sesc Santana\, Avenida Luiz Dumont Villares\, 579\, São Paulo\, SP
CATEGORIES:Apresentação
END:VEVENT
BEGIN:VEVENT
DTSTART;TZID=America/Sao_Paulo:20250319T143000
DTEND;TZID=America/Sao_Paulo:20250319T160000
DTSTAMP:20260423T201727
CREATED:20250311T231052Z
LAST-MODIFIED:20250311T231052Z
UID:7285-1742394600-1742400000@artesanalciadeteatro.com
SUMMARY:Azul
DESCRIPTION:
URL:https://artesanalciadeteatro.com/pt-br/apresentacao/azul-48/
LOCATION:Sesc Santana\, Avenida Luiz Dumont Villares\, 579\, São Paulo\, SP
CATEGORIES:Apresentação
END:VEVENT
BEGIN:VEVENT
DTSTART;TZID=America/Sao_Paulo:20250320T093000
DTEND;TZID=America/Sao_Paulo:20250320T110000
DTSTAMP:20260423T201727
CREATED:20250311T231219Z
LAST-MODIFIED:20250311T231219Z
UID:7287-1742463000-1742468400@artesanalciadeteatro.com
SUMMARY:Azul
DESCRIPTION:
URL:https://artesanalciadeteatro.com/pt-br/apresentacao/azul-49/
LOCATION:Sesc Santana\, Avenida Luiz Dumont Villares\, 579\, São Paulo\, SP
CATEGORIES:Apresentação
END:VEVENT
BEGIN:VEVENT
DTSTART;TZID=America/Sao_Paulo:20250320T143000
DTEND;TZID=America/Sao_Paulo:20250320T160000
DTSTAMP:20260423T201727
CREATED:20250311T231347Z
LAST-MODIFIED:20250311T231347Z
UID:7289-1742481000-1742486400@artesanalciadeteatro.com
SUMMARY:Azul
DESCRIPTION:
URL:https://artesanalciadeteatro.com/pt-br/apresentacao/azul-50/
LOCATION:Sesc Santana\, Avenida Luiz Dumont Villares\, 579\, São Paulo\, SP
CATEGORIES:Apresentação
END:VEVENT
BEGIN:VEVENT
DTSTART;TZID=America/Sao_Paulo:20250321T093000
DTEND;TZID=America/Sao_Paulo:20250321T110000
DTSTAMP:20260423T201727
CREATED:20250311T231503Z
LAST-MODIFIED:20250311T231503Z
UID:7291-1742549400-1742554800@artesanalciadeteatro.com
SUMMARY:Azul
DESCRIPTION:
URL:https://artesanalciadeteatro.com/pt-br/apresentacao/azul-51/
LOCATION:Sesc Santana\, Avenida Luiz Dumont Villares\, 579\, São Paulo\, SP
CATEGORIES:Apresentação
END:VEVENT
BEGIN:VEVENT
DTSTART;TZID=America/Sao_Paulo:20250323T120000
DTEND;TZID=America/Sao_Paulo:20250323T133000
DTSTAMP:20260423T201727
CREATED:20250311T231629Z
LAST-MODIFIED:20250311T231629Z
UID:7293-1742731200-1742736600@artesanalciadeteatro.com
SUMMARY:Azul
DESCRIPTION:
URL:https://artesanalciadeteatro.com/pt-br/apresentacao/azul-52/
LOCATION:Sesc Santana\, Avenida Luiz Dumont Villares\, 579\, São Paulo\, SP
CATEGORIES:Apresentação
END:VEVENT
BEGIN:VEVENT
DTSTART;TZID=America/Sao_Paulo:20250327T200000
DTEND;TZID=America/Sao_Paulo:20250327T213000
DTSTAMP:20260423T201727
CREATED:20250311T232007Z
LAST-MODIFIED:20250311T232007Z
UID:7295-1743105600-1743111000@artesanalciadeteatro.com
SUMMARY:Azul
DESCRIPTION:
URL:https://artesanalciadeteatro.com/pt-br/apresentacao/azul-53/
LOCATION:Sesc São Carlos\, Avenida Comendador Alfredo Maffei\, 700\, São Carlos\, SP
CATEGORIES:Apresentação
END:VEVENT
BEGIN:VEVENT
DTSTART;TZID=America/Sao_Paulo:20250329T160000
DTEND;TZID=America/Sao_Paulo:20250329T173000
DTSTAMP:20260423T201727
CREATED:20250311T232302Z
LAST-MODIFIED:20250311T232302Z
UID:7298-1743264000-1743269400@artesanalciadeteatro.com
SUMMARY:Azul
DESCRIPTION:
URL:https://artesanalciadeteatro.com/pt-br/apresentacao/azul-54/
LOCATION:Sesc Araraquara\, Rua Castro Alves\, 1315\, Araraquara\, SP
CATEGORIES:Apresentação
END:VEVENT
BEGIN:VEVENT
DTSTART;TZID=America/Sao_Paulo:20250330T160000
DTEND;TZID=America/Sao_Paulo:20250330T173000
DTSTAMP:20260423T201727
CREATED:20250311T232607Z
LAST-MODIFIED:20250311T232607Z
UID:7301-1743350400-1743355800@artesanalciadeteatro.com
SUMMARY:Azul
DESCRIPTION:
URL:https://artesanalciadeteatro.com/pt-br/apresentacao/azul-55/
LOCATION:Sesc Guarulhos\, Rua Guilherme Lino dos Santos\, 1200\, Guarulhos\, SP
CATEGORIES:Apresentação
END:VEVENT
END:VCALENDAR