BEGIN:VCALENDAR
VERSION:2.0
PRODID:-//Artesanal Companhia de Teatro - ECPv6.1.3//NONSGML v1.0//EN
CALSCALE:GREGORIAN
METHOD:PUBLISH
X-ORIGINAL-URL:https://artesanalciadeteatro.com/pt-br/
X-WR-CALDESC:Eventos para Artesanal Companhia de Teatro
REFRESH-INTERVAL;VALUE=DURATION:PT1H
X-Robots-Tag:noindex
X-PUBLISHED-TTL:PT1H
BEGIN:VTIMEZONE
TZID:America/Sao_Paulo
BEGIN:STANDARD
TZOFFSETFROM:-0300
TZOFFSETTO:-0300
TZNAME:-03
DTSTART:20250101T000000
END:STANDARD
END:VTIMEZONE
BEGIN:VEVENT
DTSTART;TZID=America/Sao_Paulo:20250601T160000
DTEND;TZID=America/Sao_Paulo:20250601T173000
DTSTAMP:20260423T162851
CREATED:20250503T212217Z
LAST-MODIFIED:20250503T212217Z
UID:7325-1748793600-1748799000@artesanalciadeteatro.com
SUMMARY:Azul
DESCRIPTION:
URL:https://artesanalciadeteatro.com/pt-br/apresentacao/azul-61/
LOCATION:Cine Teatro Liz Bastos\, Praça Cel. Baeta 30\, Itabirito\, MG\, 35450-006
CATEGORIES:Apresentação
END:VEVENT
BEGIN:VEVENT
DTSTART;TZID=America/Sao_Paulo:20250628T160000
DTEND;TZID=America/Sao_Paulo:20250628T173000
DTSTAMP:20260423T162851
CREATED:20250626T214131Z
LAST-MODIFIED:20250626T214131Z
UID:7333-1751126400-1751131800@artesanalciadeteatro.com
SUMMARY:Azul
DESCRIPTION:
URL:https://artesanalciadeteatro.com/pt-br/apresentacao/azul-62/
LOCATION:Sesc Rosinha de Valenca\, Rua Dr. Souza Nunes 719\, Valença\, Rio de Janeiro\, 27600-000
END:VEVENT
BEGIN:VEVENT
DTSTART;TZID=America/Sao_Paulo:20250629T160000
DTEND;TZID=America/Sao_Paulo:20250629T173000
DTSTAMP:20260423T162851
CREATED:20250626T214455Z
LAST-MODIFIED:20250626T214455Z
UID:7336-1751212800-1751218200@artesanalciadeteatro.com
SUMMARY:Azul
DESCRIPTION:
URL:https://artesanalciadeteatro.com/pt-br/apresentacao/azul-63/
LOCATION:Teatro do Sesc Teresopolis\, Avenida Delfim Moreira 749\, Teresópolis\, Rio de Janeiro\, 25953-237
END:VEVENT
END:VCALENDAR