BEGIN:VCALENDAR
VERSION:2.0
PRODID:-//Artesanal Companhia de Teatro - ECPv6.1.3//NONSGML v1.0//EN
CALSCALE:GREGORIAN
METHOD:PUBLISH
X-ORIGINAL-URL:https://artesanalciadeteatro.com/pt-br/
X-WR-CALDESC:Eventos para Artesanal Companhia de Teatro
REFRESH-INTERVAL;VALUE=DURATION:PT1H
X-Robots-Tag:noindex
X-PUBLISHED-TTL:PT1H
BEGIN:VTIMEZONE
TZID:America/Sao_Paulo
BEGIN:STANDARD
TZOFFSETFROM:-0300
TZOFFSETTO:-0300
TZNAME:-03
DTSTART:20250101T000000
END:STANDARD
END:VTIMEZONE
BEGIN:VEVENT
DTSTART;TZID=America/Sao_Paulo:20250706T160000
DTEND;TZID=America/Sao_Paulo:20250706T173000
DTSTAMP:20260423T162912
CREATED:20250706T160359Z
LAST-MODIFIED:20250706T160359Z
UID:7341-1751817600-1751823000@artesanalciadeteatro.com
SUMMARY:Azul
DESCRIPTION:
URL:https://artesanalciadeteatro.com/pt-br/apresentacao/azul-64/
LOCATION:Sesc Nova Iguaçu\, Rua Dom Adriano Hipólito\, 10\, Nova Iguaçu\, Rio de Janeiro\, 26285-330
CATEGORIES:Apresentação
END:VEVENT
BEGIN:VEVENT
DTSTART;TZID=America/Sao_Paulo:20250711T160000
DTEND;TZID=America/Sao_Paulo:20250711T173000
DTSTAMP:20260423T162912
CREATED:20250709T210453Z
LAST-MODIFIED:20250709T210453Z
UID:7344-1752249600-1752255000@artesanalciadeteatro.com
SUMMARY:Azul
DESCRIPTION:
URL:https://artesanalciadeteatro.com/pt-br/apresentacao/azul-65/
LOCATION:Caixa Cultural Recife\, Avenida Alfredo Lisboa\, 505\, Recife\, Pernambuco
END:VEVENT
BEGIN:VEVENT
DTSTART;TZID=America/Sao_Paulo:20250712T160000
DTEND;TZID=America/Sao_Paulo:20250712T173000
DTSTAMP:20260423T162912
CREATED:20250709T210529Z
LAST-MODIFIED:20250709T210529Z
UID:7347-1752336000-1752341400@artesanalciadeteatro.com
SUMMARY:Azul
DESCRIPTION:
URL:https://artesanalciadeteatro.com/pt-br/apresentacao/azul-66/
LOCATION:Caixa Cultural Recife\, Avenida Alfredo Lisboa\, 505\, Recife\, Pernambuco
END:VEVENT
BEGIN:VEVENT
DTSTART;TZID=America/Sao_Paulo:20250713T160000
DTEND;TZID=America/Sao_Paulo:20250713T173000
DTSTAMP:20260423T162912
CREATED:20250709T210611Z
LAST-MODIFIED:20250709T210611Z
UID:7349-1752422400-1752427800@artesanalciadeteatro.com
SUMMARY:Azul
DESCRIPTION:
URL:https://artesanalciadeteatro.com/pt-br/apresentacao/azul-67/
LOCATION:Caixa Cultural Recife\, Avenida Alfredo Lisboa\, 505\, Recife\, Pernambuco
END:VEVENT
BEGIN:VEVENT
DTSTART;TZID=America/Sao_Paulo:20250720T160000
DTEND;TZID=America/Sao_Paulo:20250720T173000
DTSTAMP:20260423T162912
CREATED:20250709T211025Z
LAST-MODIFIED:20250709T211025Z
UID:7351-1753027200-1753032600@artesanalciadeteatro.com
SUMMARY:Azul
DESCRIPTION:
URL:https://artesanalciadeteatro.com/pt-br/apresentacao/azul-68/
LOCATION:Sesc São João do Meriti\, Avenida Automóvel Clube 66\, São João do Meriti\, Rio de Janeiro\, 25515-126
END:VEVENT
BEGIN:VEVENT
DTSTART;TZID=America/Sao_Paulo:20250727T150000
DTEND;TZID=America/Sao_Paulo:20250727T163000
DTSTAMP:20260423T162912
CREATED:20250709T211516Z
LAST-MODIFIED:20250709T211516Z
UID:7354-1753628400-1753633800@artesanalciadeteatro.com
SUMMARY:Azul
DESCRIPTION:
URL:https://artesanalciadeteatro.com/pt-br/apresentacao/azul-69/
LOCATION:Sesc Barra Mansa\, Avenida Tenente José Eduardo 560\, Barra Mansa\, Rio de Janeiro\, 27323-240
END:VEVENT
END:VCALENDAR