BEGIN:VCALENDAR
VERSION:2.0
PRODID:-//Artesanal Companhia de Teatro - ECPv6.1.3//NONSGML v1.0//EN
CALSCALE:GREGORIAN
METHOD:PUBLISH
X-ORIGINAL-URL:https://artesanalciadeteatro.com/pt-br/
X-WR-CALDESC:Eventos para Artesanal Companhia de Teatro
REFRESH-INTERVAL;VALUE=DURATION:PT1H
X-Robots-Tag:noindex
X-PUBLISHED-TTL:PT1H
BEGIN:VTIMEZONE
TZID:America/Sao_Paulo
BEGIN:STANDARD
TZOFFSETFROM:-0300
TZOFFSETTO:-0300
TZNAME:-03
DTSTART:20250101T000000
END:STANDARD
END:VTIMEZONE
BEGIN:VEVENT
DTSTART;TZID=America/Sao_Paulo:20250802T160000
DTEND;TZID=America/Sao_Paulo:20250802T173000
DTSTAMP:20260423T133318
CREATED:20250805T232601Z
LAST-MODIFIED:20250805T232601Z
UID:7360-1754150400-1754155800@artesanalciadeteatro.com
SUMMARY:Azul
DESCRIPTION:
URL:https://artesanalciadeteatro.com/pt-br/apresentacao/azul-70/
LOCATION:Centro Cultural José da Costa Sepúlveda\, Rua Luís Cassiano\, 60\, Sabará\, Minas Gerais
CATEGORIES:Apresentação
END:VEVENT
BEGIN:VEVENT
DTSTART;TZID=America/Sao_Paulo:20250803T160000
DTEND;TZID=America/Sao_Paulo:20250803T173000
DTSTAMP:20260423T133318
CREATED:20250805T233245Z
LAST-MODIFIED:20250805T233245Z
UID:7363-1754236800-1754242200@artesanalciadeteatro.com
SUMMARY:Azul
DESCRIPTION:
URL:https://artesanalciadeteatro.com/pt-br/apresentacao/azul-71/
LOCATION:Teatro Francisco Nunes\, Avenida Afonso Pena\, s/n\, Belo Horizonte\, Minas Gerais
CATEGORIES:Apresentação
END:VEVENT
BEGIN:VEVENT
DTSTART;TZID=America/Sao_Paulo:20250814T200000
DTEND;TZID=America/Sao_Paulo:20250814T213000
DTSTAMP:20260423T133318
CREATED:20250805T233735Z
LAST-MODIFIED:20250805T233735Z
UID:7366-1755201600-1755207000@artesanalciadeteatro.com
SUMMARY:Azul
DESCRIPTION:
URL:https://artesanalciadeteatro.com/pt-br/apresentacao/azul-72/
LOCATION:Teatro Juarez Machado\, Avenida José Vieira\, 315\, Joinville\, Santa Catarina
CATEGORIES:Apresentação
END:VEVENT
BEGIN:VEVENT
DTSTART;TZID=America/Sao_Paulo:20250815T090000
DTEND;TZID=America/Sao_Paulo:20250815T103000
DTSTAMP:20260423T133318
CREATED:20250805T233907Z
LAST-MODIFIED:20250805T233907Z
UID:7369-1755248400-1755253800@artesanalciadeteatro.com
SUMMARY:Azul
DESCRIPTION:
URL:https://artesanalciadeteatro.com/pt-br/apresentacao/azul-73/
LOCATION:Teatro Juarez Machado\, Avenida José Vieira\, 315\, Joinville\, Santa Catarina
CATEGORIES:Apresentação
END:VEVENT
BEGIN:VEVENT
DTSTART;TZID=America/Sao_Paulo:20250822T190000
DTEND;TZID=America/Sao_Paulo:20250822T203000
DTSTAMP:20260423T133318
CREATED:20250805T234501Z
LAST-MODIFIED:20250805T234501Z
UID:7371-1755889200-1755894600@artesanalciadeteatro.com
SUMMARY:Azul
DESCRIPTION:
URL:https://artesanalciadeteatro.com/pt-br/apresentacao/azul-74/
LOCATION:Teatro Pataiva do Assaré – Mostra Sesc Cariri\, Rua da Matriz\, 185\, Juazeiro do Norte\, Ceará
CATEGORIES:Apresentação
END:VEVENT
BEGIN:VEVENT
DTSTART;TZID=America/Sao_Paulo:20250831T160000
DTEND;TZID=America/Sao_Paulo:20250831T173000
DTSTAMP:20260423T133318
CREATED:20250805T234732Z
LAST-MODIFIED:20250805T234732Z
UID:7374-1756656000-1756661400@artesanalciadeteatro.com
SUMMARY:Azul
DESCRIPTION:
URL:https://artesanalciadeteatro.com/pt-br/apresentacao/azul-75/
LOCATION:Teatro Solar\, Av. Presidente Itamar Franco\, 2104\, Juiz de Fora\, Minas Gerais
CATEGORIES:Apresentação
END:VEVENT
END:VCALENDAR